BEGIN:VCALENDAR
VERSION:2.0
PRODID:-//ZESS Website - ECPv6.15.20//NONSGML v1.0//EN
CALSCALE:GREGORIAN
METHOD:PUBLISH
X-WR-CALNAME:ZESS Website
X-ORIGINAL-URL:https://zess.ruhr-uni-bochum.de/en
X-WR-CALDESC:Events for ZESS Website
REFRESH-INTERVAL;VALUE=DURATION:PT1H
X-Robots-Tag:noindex
X-PUBLISHED-TTL:PT1H
BEGIN:VTIMEZONE
TZID:Europe/Berlin
BEGIN:DAYLIGHT
TZOFFSETFROM:+0100
TZOFFSETTO:+0200
TZNAME:CEST
DTSTART:20250330T010000
END:DAYLIGHT
BEGIN:STANDARD
TZOFFSETFROM:+0200
TZOFFSETTO:+0100
TZNAME:CET
DTSTART:20251026T010000
END:STANDARD
BEGIN:DAYLIGHT
TZOFFSETFROM:+0100
TZOFFSETTO:+0200
TZNAME:CEST
DTSTART:20260329T010000
END:DAYLIGHT
BEGIN:STANDARD
TZOFFSETFROM:+0200
TZOFFSETTO:+0100
TZNAME:CET
DTSTART:20261025T010000
END:STANDARD
BEGIN:DAYLIGHT
TZOFFSETFROM:+0100
TZOFFSETTO:+0200
TZNAME:CEST
DTSTART:20270328T010000
END:DAYLIGHT
BEGIN:STANDARD
TZOFFSETFROM:+0200
TZOFFSETTO:+0100
TZNAME:CET
DTSTART:20271031T010000
END:STANDARD
END:VTIMEZONE
BEGIN:VEVENT
DTSTART;TZID=Europe/Berlin:20260430T090000
DTEND;TZID=Europe/Berlin:20260430T150000
DTSTAMP:20260420T064417
CREATED:20260309T143135Z
LAST-MODIFIED:20260326T134635Z
UID:5491-1777539600-1777561200@zess.ruhr-uni-bochum.de
SUMMARY:Forschungstag Cybersicherheit
DESCRIPTION:Der eurobits e.V. lädt zum zweiten Forschungstag Cybersicherheit NRW ins ZESS ein. Die Veranstaltung bietet eine Plattform für wissenschaftlichen Austausch zwischen Forschenden und Vertretenden von Hochschul- und Forschungseinrichtungen und ermöglicht das Vorstellen aktueller und zukünftiger Forschungsvorhaben vor einem qualifizierten Fachpublikum. Dieses kann im Rahmen eines Elevator-Pitches oder einer Poster-Session durchgeführt werden. \nNutzen Sie die Gelegenheit\, Ihr persönliches Netzwerk zu erweitern und neue wissenschaftliche Impulse für Ihre Arbeit zu erhalten!
URL:https://zess.ruhr-uni-bochum.de/en/event/forschungstag-cybersicherheit/
LOCATION:ZESS | Zentrum für das Engineering Smarter Produkt-Service-Systeme\, Hans-Dobbertin-Str. 8\, Bochum\, 44803\, Germany
ORGANIZER;CN="eurobits e.V.":MAILTO:kontakt@eurobits.de
END:VEVENT
BEGIN:VEVENT
DTSTART;VALUE=DATE:20260518
DTEND;VALUE=DATE:20260521
DTSTAMP:20260420T064417
CREATED:20251117T103217Z
LAST-MODIFIED:20251117T103217Z
UID:5340-1779062400-1779321599@zess.ruhr-uni-bochum.de
SUMMARY:Spring Servitization Conference 2026
DESCRIPTION:Die Spring Servitization Conference 2026 widmet sich der Frage\, wie Organisationen ihre Geschäftsmodelle durch Servitization und fortschrittliche Dienstleistungen entwickeln und anpassen können. Die Konferenz findet 2026 am ZESS statt und steht unter dem Motto „Servitization als mehrstufiger Transformationsprozess: Geschäftsmodelle\, Menschen\, Organisationen und Ökosysteme“. Sie bringt weltweit führende Forschende\, Praktiker:innen und Doktorand:innen zusammen\, um Theorie und Praxis der Servitization zu diskutieren. \nDie SSC2026 umfasst das Servitization Doctoral Symposium (18. Mai 2026) und die Hauptkonferenz (19./20. Mai 2026). \nDas Doktorandensymposium richtet sich an Doktorand:innen\, deren Forschung sich mit Themen der Servitization befasst (u. a. Produkt-Service-Systeme\, serviceorientierte Geschäftsmodelle und serviceorientierte Logik). \nBei der Hauptkonferenz haben die Teilnehmenden die Möglichkeit\, ihre Forschungsergebnisse zu präsentieren und in Paneldiskussionen ihre Arbeit zu erörtern. Das Programm fördert einen intensiven Austausch und schlägt eine Brücke zwischen Forschungstheorie und industrieller Praxis. Die Konferenz bietet zudem Keynote-Vorträge von Führungskräften führender Produktionsunternehmen. Darüber hinaus widmen wir einige Sessions der frühen Forschungsphase. Diese umfassen interaktive Keynotes führender Wissenschaftler\, Debatten zu aktuellen Forschungsthemen sowie Posterpräsentationen zu Projektvorschlägen und Doktorarbeiten.
URL:https://zess.ruhr-uni-bochum.de/en/event/spring-servitization-conference-2026/
LOCATION:ZESS | Zentrum für das Engineering Smarter Produkt-Service-Systeme\, Hans-Dobbertin-Str. 8\, Bochum\, 44803\, Germany
END:VEVENT
BEGIN:VEVENT
DTSTART;VALUE=DATE:20260522
DTEND;VALUE=DATE:20260523
DTSTAMP:20260420T064417
CREATED:20251117T110053Z
LAST-MODIFIED:20251117T110303Z
UID:5346-1779408000-1779494399@zess.ruhr-uni-bochum.de
SUMMARY:Practical Data Science Congress 2026
DESCRIPTION:Noch eine Konferenz über Data Science? Ja – aber: Die PDSC ist anders. Bei dieser Konferenz stehen echte Praxislösungen im Fokus. \nDas erwartet euch bei der Practical Data Science Conference 2026: \n\nTop Talks: Praxisnahe Inhalte mit echten Beispielen – direkt aus dem Alltag.\nNetworking: Nutze die Gelegenheit\, neue Kontakte innerhalb der Branche zu knüpfen.\nGleichwertige Hallway Tracks: Die Gespräche zwischen den Sessions sind bei uns genauso wichtig wie das Programm auf der Bühne.\nJobs: Gerade für Young Professionals und Studierende ist der PDSC die Chance\, potenzielle Arbeitgeber kennenzulernen – auf Augenhöhe und in entspannter Atmosphäre.\n\nOrganisiert wird die Konferenz vom Open Skunkforce e.V.
URL:https://zess.ruhr-uni-bochum.de/en/event/practical-data-science-congress-2026/
LOCATION:ZESS | Zentrum für das Engineering Smarter Produkt-Service-Systeme\, Hans-Dobbertin-Str. 8\, Bochum\, 44803\, Germany
ORGANIZER;CN="Open Skunkforce e.V.":MAILTO:info@skunkforce.org
END:VEVENT
BEGIN:VEVENT
DTSTART;VALUE=DATE:20260924
DTEND;VALUE=DATE:20260925
DTSTAMP:20260420T064417
CREATED:20260122T131448Z
LAST-MODIFIED:20260122T131448Z
UID:5423-1790208000-1790294399@zess.ruhr-uni-bochum.de
SUMMARY:Data Science Ruhrgebiet 2026
DESCRIPTION:#DSRuhrgebiet Kongress – das ist der Data Science Ruhrgebiet Kongress\, der seit 2018 in Bochum stattfindet. Auch 2026 bringen wir wieder Data-Science-Enthusiastinnen und alle\, die es werden möchten\, in lockerer Atmosphäre zusammen. \nUnter dem diesjährigen Motto „A-Z: von A wie Algorithmus bis Z wie Z-Score“ spannen wir den Bogen über alle Facetten der Data Science. Ob technische Tiefe oder ethische Weitsicht – wir decken die ganze Bandbreite ab. Freut euch auf Keynotes\, Fachvorträge\, Poster-Präsentationen\, Open Space und die Job Wall – zum Austauschen\, Erfahrungen teilen\, Projektideen diskutieren\, Partner finden und Kontakte knüpfen. Dazu gibt’s leckeres Essen\, kühle Getränke und viel Raum für ungezwungenes Networking. \nDie Veranstaltung wird organisiert vom BO-I-T – Bochumer Institut für Technologie und der LABS.ruhr GmbH.
URL:https://zess.ruhr-uni-bochum.de/en/event/data-science-ruhrgebiet-2026/
LOCATION:ZESS | Zentrum für das Engineering Smarter Produkt-Service-Systeme\, Hans-Dobbertin-Str. 8\, Bochum\, 44803\, Germany
END:VEVENT
END:VCALENDAR